BEGIN:VCALENDAR
VERSION:2.0
PRODID:-//Espace Apollo, Centre Culturel au coeur de Mazamet - ECPv5.1.6//NONSGML v1.0//EN
CALSCALE:GREGORIAN
METHOD:PUBLISH
X-WR-CALNAME:Espace Apollo, Centre Culturel au coeur de Mazamet
X-ORIGINAL-URL:https://espace-apollo.fr
X-WR-CALDESC:évènements pour Espace Apollo, Centre Culturel au coeur de Mazamet
BEGIN:VTIMEZONE
TZID:Europe/Paris
BEGIN:DAYLIGHT
TZOFFSETFROM:+0100
TZOFFSETTO:+0200
TZNAME:CEST
DTSTART:20250330T010000
END:DAYLIGHT
BEGIN:STANDARD
TZOFFSETFROM:+0200
TZOFFSETTO:+0100
TZNAME:CET
DTSTART:20251026T010000
END:STANDARD
END:VTIMEZONE
BEGIN:VEVENT
DTSTART;TZID=Europe/Paris:20250307T203000
DTEND;TZID=Europe/Paris:20250307T220000
DTSTAMP:20260419T163657
CREATED:20240705T131805Z
LAST-MODIFIED:20241004T084652Z
UID:1973-1741379400-1741384800@espace-apollo.fr
SUMMARY:TONES & BONES
DESCRIPTION:En se proposant de reprendre des standards de jazz et de construire un répertoire\, à la manière d’un Jazz Band\, le duo formé par le chorégraphe Nicolas Fayol et le musicien Daniel Erdmann s’engouffrent dans le travail d’élaboration d’un langage musique/danse ou son/image ou espace/temps. Leur désir est de se défaire de toutes contraintes techniques\, juste être deux\, pour rendre ce travail brut\, cru\, nu.\nGuidé par des morceaux déjà joués mille fois; soucieux de rester dans leur forme ou leur esprit\, Nicolas Fayol et Daniel Erdmann les accompagnent prudemment à travers le temps.\n« nous nous faisons balader d’un registre à un autre\, d’une énergie à une autre\, et au fil de ce parcours nous posons ces registres\, ces standards dans un espace\, une direction\, une adresse différente ». Démarrer ensemble; ouvrir la voie; accompagner; faire entendre ce que l’autre ne joue pas\, faire voir ce que l’autre joue\, montrer la musique; faire entendre la danse; faire entendre le geste. \nNicolas Fayol: chorégraphe – danseur\nDaniel Erdmann: saxophone\nDurée: 1h (placement libre) \n  \nRÉSERVER
URL:https://espace-apollo.fr/spectacle/tones-bones/
CATEGORIES:Contemporaine,Danse,Tous les spectacles
ATTACH;FMTTYPE=image/jpeg:https://espace-apollo.fr/wp-content/uploads/2024/06/1.jpg
END:VEVENT
END:VCALENDAR