BEGIN:VCALENDAR
VERSION:2.0
PRODID:-//Espace Apollo, Centre Culturel au coeur de Mazamet - ECPv5.1.6//NONSGML v1.0//EN
CALSCALE:GREGORIAN
METHOD:PUBLISH
X-WR-CALNAME:Espace Apollo, Centre Culturel au coeur de Mazamet
X-ORIGINAL-URL:https://espace-apollo.fr
X-WR-CALDESC:évènements pour Espace Apollo, Centre Culturel au coeur de Mazamet
BEGIN:VTIMEZONE
TZID:Europe/Paris
BEGIN:DAYLIGHT
TZOFFSETFROM:+0100
TZOFFSETTO:+0200
TZNAME:CEST
DTSTART:20200329T010000
END:DAYLIGHT
BEGIN:STANDARD
TZOFFSETFROM:+0200
TZOFFSETTO:+0100
TZNAME:CET
DTSTART:20201025T010000
END:STANDARD
END:VTIMEZONE
BEGIN:VEVENT
DTSTART;TZID=Europe/Paris:20201015T203000
DTEND;TZID=Europe/Paris:20201015T203000
DTSTAMP:20260424T203343
CREATED:20200827T121510Z
LAST-MODIFIED:20200903T145505Z
UID:560-1602793800-1602793800@espace-apollo.fr
SUMMARY:Psy Sex and Fun
DESCRIPTION:LA comédie qui réconcilie les couples\, véritable plébiscite au festival d’Avignon et prix du meilleur auteur 2016 au « P’tit Molière » ! C’est aussi un succès 3T\, n’hésitez pas une seconde ! \nLéo aime Léa. Léa aime Léo. Comme dans tous les couples\, ils connaissent des hauts et des bas et décident alors d’aller consulter un psy. Seulement voilà : que se passe-t-il quand le psy tombe amoureux de sa patiente ?! Comment faire quand celui qui est censé sauver votre couple fait tout pour le détruire ?! Une comédie hilarante et riche en rebondissements\, pour laquelle il vous est interdit de raconter la fin à vos amis !! \n  \nUne comédie à 3 personnages de Sacha Judaszko et Vincent Leroy\nMise en scène Gérard Pinter\navec : Jean-Marie Godonnier\, Christian Moutellière\, en alternance avec Carlos De Sousa\, et Camille Dintrans\, en alternance avec Sophie Berneyron..\nProduction : Théâtre des 3T – Toulouse \n  \n\nTarif plein 23€ – Tarif adhérent 19€ – Tarif réduit : 16€\nDurée : 1h30 \n  \nRÉSERVER
URL:https://espace-apollo.fr/spectacle/psy-sex-and-fun/
LOCATION:Espace Apollo\, 6 Place du Maréchal Leclerc\, Mazamet\, 81200
CATEGORIES:Comédie,THEATRE,Tous les spectacles
ATTACH;FMTTYPE=image/jpeg:https://espace-apollo.fr/wp-content/uploads/2020/08/psy-sex-fun-1.jpg
END:VEVENT
END:VCALENDAR