BEGIN:VCALENDAR
VERSION:2.0
PRODID:-//Espace Apollo, Centre Culturel au coeur de Mazamet - ECPv5.1.6//NONSGML v1.0//EN
CALSCALE:GREGORIAN
METHOD:PUBLISH
X-WR-CALNAME:Espace Apollo, Centre Culturel au coeur de Mazamet
X-ORIGINAL-URL:https://espace-apollo.fr
X-WR-CALDESC:évènements pour Espace Apollo, Centre Culturel au coeur de Mazamet
BEGIN:VTIMEZONE
TZID:Europe/Paris
BEGIN:DAYLIGHT
TZOFFSETFROM:+0100
TZOFFSETTO:+0200
TZNAME:CEST
DTSTART:20260329T010000
END:DAYLIGHT
BEGIN:STANDARD
TZOFFSETFROM:+0200
TZOFFSETTO:+0100
TZNAME:CET
DTSTART:20261025T010000
END:STANDARD
END:VTIMEZONE
BEGIN:VEVENT
DTSTART;TZID=Europe/Paris:20260507T203000
DTEND;TZID=Europe/Paris:20260507T220000
DTSTAMP:20260423T171445
CREATED:20250724T084602Z
LAST-MODIFIED:20250926T083900Z
UID:2261-1778185800-1778191200@espace-apollo.fr
SUMMARY:MEDITERRANEI
DESCRIPTION:  \n« Entre Chants et Passions » \nChanson Française & Chanson Corse : un voyage !\nPlongez dans une soirée inédite où se mêlent la finesse du chant\, la poésie de la chanson française et l’âme envoûtante des polyphonies corses.\nChristophe Mondoloni (Qui a enregistré avec Patrick FIORI\, Daniel LEVI – A fait partie de la tournée COSU MESU\, les ENFOIRES 2025 –  et a chanté pour la venue du Pape à Ajaccio ) et Mathieu Sempéré ( ténor des STENTORS ) nous invitent de manière amusante à découvrir leurs univers musicaux.\nLes deux voix marquées se répondent et s’enrichissent mutuellement\, pour vous offrir un spectacle à nulle autre pareil.\nL’intimité de la chanson française\, les harmonies ancestrales et la profondeur des chants traditionnels corses sont mis en valeur par le jeu des deux artistes. \n  \nRÉSERVER\n 
URL:https://espace-apollo.fr/spectacle/mediterranei/
CATEGORIES:Musique,Tous les spectacles
ATTACH;FMTTYPE=image/jpeg:https://espace-apollo.fr/wp-content/uploads/2025/08/Mediterranei-scaled.jpg
END:VEVENT
END:VCALENDAR