BEGIN:VCALENDAR
VERSION:2.0
PRODID:-//Espace Apollo, Centre Culturel au coeur de Mazamet - ECPv5.1.6//NONSGML v1.0//EN
CALSCALE:GREGORIAN
METHOD:PUBLISH
X-WR-CALNAME:Espace Apollo, Centre Culturel au coeur de Mazamet
X-ORIGINAL-URL:https://espace-apollo.fr
X-WR-CALDESC:évènements pour Espace Apollo, Centre Culturel au coeur de Mazamet
BEGIN:VTIMEZONE
TZID:Europe/Paris
BEGIN:DAYLIGHT
TZOFFSETFROM:+0100
TZOFFSETTO:+0200
TZNAME:CEST
DTSTART:20220327T010000
END:DAYLIGHT
BEGIN:STANDARD
TZOFFSETFROM:+0200
TZOFFSETTO:+0100
TZNAME:CET
DTSTART:20221030T010000
END:STANDARD
END:VTIMEZONE
BEGIN:VEVENT
DTSTART;TZID=Europe/Paris:20221203T160000
DTEND;TZID=Europe/Paris:20221203T163000
DTSTAMP:20260422T130504
CREATED:20220929T125847Z
LAST-MODIFIED:20220929T150817Z
UID:1401-1670083200-1670085000@espace-apollo.fr
SUMMARY:K-Outchou
DESCRIPTION:Le personnage principal de ce conte écologique est Outchou\, né en Amazonie\, sur l’arbre hévéa. Son papa Latex et sa maman Elastomère disent qu’il est un sacré numéro !\n\n\n\n\n\n\n\n\n\n\n\n\n\n\n\n\n\n\n\n\n\n\n\n\nSon papa Latex et sa maman Elastomère disent qu’il est un sacré numéro !\nIl est coloré\, imperméable et flexible. Effectivement\, Outchou est un cas !\nOutchou\, très joueur\, saute dans des flaques imaginaires chaussé de ses bottes imperméables. La fée plastique croise sa route\, laissant derrière elle une méduse nocive. \nOutchou craint le monstre pétrole qui envahit l’espace au service du synthétique.\nUn univers en suspension\, élastique et rebondissant.\nSur un montage musical signé Jacky Mérit\, les matières sonores et les couleurs défilent comme des paysages.\nVioloncelle et kora se mêlent poétiquement au piano et à la musique électronique.\nL’énergie vitale des percussions va à la rencontre de Outchou qui rigole\, ondule et s’étire. \n\n\n\n\n\n\n\n\n\n\n\n\n\n\n\n\n\n\n\n\n\n\n\n\n\n\n\n\n\n\n\n\n\n\n\n\nCompagnie CMN/ L’Hélice\nChorégraphie et scénographie : Myriam Naisy\nDanseurs : Nicolas Maye Audrey Hector ou Claire Massias\nCréation sonore Jacky Mérit Et les musiques de Ballaké Sissoko\, Vincent Segal Agnès Obel\, The Young Gods\nLumière Christophe Olivier – Costumes Philippe Combeau – Bateau Odile Brisset \n\n\n\n\n  \n\n\n\n\nCOMMENT PARLER D’ÉCOLOGIE AUX PLUS PETITS : \n\n\n\n\n\n\n\n\n\n\n\n\n\n\n\n\n\n\n\n\nSPECTACLE POUR LES PETITS À PARTIR DE 3 ANS\, ÉCOLES MATERNELLES\, CP\, CE1\, CE2 CENTRES DE LOISIRS\nMAIS AUSSI POUR LES PLUS GRANDS. \n\n\n\n\n\n\n\n\nTarif unique : 6€ \nRÉSERVER
URL:https://espace-apollo.fr/spectacle/k-outchou/
LOCATION:Espace Apollo\, 6 Place du Maréchal Leclerc\, Mazamet\, 81200
CATEGORIES:Danse,Jeune public,Tous les spectacles
ATTACH;FMTTYPE=image/jpeg:https://espace-apollo.fr/wp-content/uploads/2022/09/k-outchou-espace-apollo-2023.jpg
END:VEVENT
END:VCALENDAR