BEGIN:VCALENDAR
VERSION:2.0
PRODID:-//Espace Apollo, Centre Culturel au coeur de Mazamet - ECPv5.1.6//NONSGML v1.0//EN
CALSCALE:GREGORIAN
METHOD:PUBLISH
X-WR-CALNAME:Espace Apollo, Centre Culturel au coeur de Mazamet
X-ORIGINAL-URL:https://espace-apollo.fr
X-WR-CALDESC:évènements pour Espace Apollo, Centre Culturel au coeur de Mazamet
BEGIN:VTIMEZONE
TZID:Europe/Paris
BEGIN:DAYLIGHT
TZOFFSETFROM:+0100
TZOFFSETTO:+0200
TZNAME:CEST
DTSTART:20260329T010000
END:DAYLIGHT
BEGIN:STANDARD
TZOFFSETFROM:+0200
TZOFFSETTO:+0100
TZNAME:CET
DTSTART:20261025T010000
END:STANDARD
END:VTIMEZONE
BEGIN:VEVENT
DTSTART;TZID=Europe/Paris:20260626T203000
DTEND;TZID=Europe/Paris:20260626T220000
DTSTAMP:20260425T164435
CREATED:20250724T084655Z
LAST-MODIFIED:20250926T083923Z
UID:2266-1782505800-1782511200@espace-apollo.fr
SUMMARY:FERUSA
DESCRIPTION:C’est une vague\, un marécage envoûtant qui vient nous bercer\, nous conter les conter les peurs\, les craintes et les désirs. \nTrois compagnons de voyage : une danseuse\, un comédien et un musicien vont traverser par le corps et la voix le chemin vers l’espoir. Celui de renaître. Celui de vivre ensemble. \nPour seuls témoins\, des suspensions lumineuses et une baignoire guideront le pas dans ce clair-obscur à la temporalité bouleversée. FERUSA  est  une  odyssée  humaine  qui  amène  une  curiosité  fondamentale: comment se construire une existence libre là où règne un monde rempli d’incertitudes    ? \n  \nRÉSERVER
URL:https://espace-apollo.fr/spectacle/ferusa/
CATEGORIES:Contemporaine,Danse,Tous les spectacles
ATTACH;FMTTYPE=image/jpeg:https://espace-apollo.fr/wp-content/uploads/2025/08/Ferusa-scaled.jpg
END:VEVENT
END:VCALENDAR